BEGIN:VCALENDAR
VERSION:2.0
PRODID:-//wp-events-plugin.com//7.2.3.1//EN
TZID:America/New_York
X-WR-TIMEZONE:America/New_York
BEGIN:VEVENT
UID:262@wcampwa.org
DTSTART;TZID=America/New_York:20260505T083000
DTEND;TZID=America/New_York:20260505T113000
DTSTAMP:20260424T003958Z
URL:https://wcampwa.org/events/work-zone-safety-seminar-2026/
SUMMARY:WORK ZONE SAFETY SEMINAR
DESCRIPTION:https://wcampwa.org/wp-content/uploads/2026/04/WORK-ZONE-SAFETY
 -SEMINAR.pdf
CATEGORIES:Training &amp; Seminars
END:VEVENT
BEGIN:VTIMEZONE
TZID:America/New_York
X-LIC-LOCATION:America/New_York
BEGIN:DAYLIGHT
DTSTART:20260308T030000
TZOFFSETFROM:-0500
TZOFFSETTO:-0400
TZNAME:EDT
END:DAYLIGHT
END:VTIMEZONE
END:VCALENDAR