BEGIN:VCALENDAR
VERSION:2.0
PRODID:-//wp-events-plugin.com//7.2.3.1//EN
TZID:America/New_York
X-WR-TIMEZONE:America/New_York
BEGIN:VEVENT
UID:261@wcampwa.org
DTSTART;TZID=America/New_York:20260511T100000
DTEND;TZID=America/New_York:20260511T143000
DTSTAMP:20260422T010049Z
URL:https://wcampwa.org/events/wcampwa-to-co-sponsor-nys-dot-session-on-ch
 ips/
SUMMARY:WCAMPWA to Co-Sponsor NYS DOT Session on CHIPs
DESCRIPTION:https://wcampwa.org/wp-content/uploads/2026/04/CHIPS-and-Local-
 Highway-Inventory-Information-Session-Flyer-_002_.pdf
END:VEVENT
BEGIN:VTIMEZONE
TZID:America/New_York
X-LIC-LOCATION:America/New_York
BEGIN:DAYLIGHT
DTSTART:20260308T030000
TZOFFSETFROM:-0500
TZOFFSETTO:-0400
TZNAME:EDT
END:DAYLIGHT
END:VTIMEZONE
END:VCALENDAR